BEGIN:VCALENDAR
VERSION:2.0
PRODID:spatie/icalendar-generator
DESCRIPTION:Events from Sheridan Wyoming Library
X-WR-CALDESC:Events from Sheridan Wyoming Library
REFRESH-INTERVAL;VALUE=DURATION:PT1440M
X-PUBLISHED-TTL:PT1440M
BEGIN:VTIMEZONE
TZID:America/Denver
BEGIN:DAYLIGHT
DTSTART:20240310T020000Z
TZOFFSETFROM:-0700
TZOFFSETTO:-0600
END:DAYLIGHT
BEGIN:STANDARD
DTSTART:20241103T020000Z
TZOFFSETFROM:-0600
TZOFFSETTO:-0700
END:STANDARD
END:VTIMEZONE
BEGIN:VTIMEZONE
TZID:UTC
BEGIN:STANDARD
DTSTART:20250725T100809Z
TZOFFSETFROM:+0000
TZOFFSETTO:+0000
END:STANDARD
END:VTIMEZONE
BEGIN:VEVENT
UID:383-96
DTSTAMP:20260421T100809Z
SUMMARY:Game Day in the Children's Theater
LOCATION:Fulmer 335 West Alger St  Sheridan WY 82801
ORGANIZER;CN=Admin:MAILTO:jstolte@sheridanwyolibrary.org
DTSTART;TZID=America/Denver;VALUE=DATE:20240820
DTEND;TZID=America/Denver;VALUE=DATE:20240821
X-ALT-DESC;FMTTYPE=TEXT/HTML:<p>Drop in anytime all day and join us for fam
 ily friendly games!</p>\n
CATEGORIES:Fulmer
URL;VALUE=URI:https://sheridancountylibrary.org/mc-events/game-day-in-the-c
 hildrens-theater/
METHOD:PUBLISH
END:VEVENT
END:VCALENDAR