BEGIN:VCALENDAR
VERSION:2.0
PRODID:spatie/icalendar-generator
DESCRIPTION:Events from Sheridan Wyoming Library
X-WR-CALDESC:Events from Sheridan Wyoming Library
REFRESH-INTERVAL;VALUE=DURATION:PT1440M
X-PUBLISHED-TTL:PT1440M
BEGIN:VTIMEZONE
TZID:America/Denver
BEGIN:DAYLIGHT
DTSTART:20240310T020000Z
TZOFFSETFROM:-0700
TZOFFSETTO:-0600
END:DAYLIGHT
BEGIN:STANDARD
DTSTART:20241103T020000Z
TZOFFSETFROM:-0600
TZOFFSETTO:-0700
END:STANDARD
BEGIN:DAYLIGHT
DTSTART:20250309T020000Z
TZOFFSETFROM:-0700
TZOFFSETTO:-0600
END:DAYLIGHT
END:VTIMEZONE
BEGIN:VTIMEZONE
TZID:UTC
BEGIN:STANDARD
DTSTART:20250725T082318Z
TZOFFSETFROM:+0000
TZOFFSETTO:+0000
END:STANDARD
END:VTIMEZONE
BEGIN:VEVENT
UID:398-104
DTSTAMP:20260421T082318Z
SUMMARY:Little Goose Plein Air Painters Exhibition
LOCATION:Fulmer 335 West Alger St  Sheridan WY 82801
ORGANIZER;CN=Cassie Stone:MAILTO:cstone@sheridanwyolibrary.org
DTSTART;TZID=America/Denver:20241102T000000
DTEND;TZID=America/Denver:20241227T010000
X-ALT-DESC;FMTTYPE=TEXT/HTML:
CATEGORIES:Fulmer
URL;VALUE=URI:https://sheridancountylibrary.org/mc-events/little-goose-plei
 n-air-painters-exhibition/
METHOD:PUBLISH
END:VEVENT
END:VCALENDAR