BEGIN:VCALENDAR
VERSION:2.0
PRODID:spatie/icalendar-generator
DESCRIPTION:Events from Sheridan Wyoming Library
X-WR-CALDESC:Events from Sheridan Wyoming Library
REFRESH-INTERVAL;VALUE=DURATION:PT1440M
X-PUBLISHED-TTL:PT1440M
BEGIN:VTIMEZONE
TZID:America/Denver
BEGIN:STANDARD
DTSTART:20241103T020000Z
TZOFFSETFROM:-0600
TZOFFSETTO:-0700
END:STANDARD
BEGIN:DAYLIGHT
DTSTART:20250309T020000Z
TZOFFSETFROM:-0700
TZOFFSETTO:-0600
END:DAYLIGHT
END:VTIMEZONE
BEGIN:VTIMEZONE
TZID:UTC
BEGIN:STANDARD
DTSTART:20250725T082443Z
TZOFFSETFROM:+0000
TZOFFSETTO:+0000
END:STANDARD
END:VTIMEZONE
BEGIN:VEVENT
UID:478-28
DTSTAMP:20260421T082443Z
SUMMARY:CHRISTMAS WITH CRAIG  at Sheridan Fulmer Public Library
LOCATION:Fulmer 335 West Alger St  Sheridan WY 82801
ORGANIZER;CN=Admin:MAILTO:jstolte@sheridanwyolibrary.org
DTSTART;TZID=America/Denver:20241221T180000
DTEND;TZID=America/Denver:20241221T190000
X-ALT-DESC;FMTTYPE=TEXT/HTML:
CATEGORIES:Fulmer
URL;VALUE=URI:https://sheridancountylibrary.org/mc-events/christmas-with-cr
 aig-at-sheridan-fulmer-public-library/
METHOD:PUBLISH
END:VEVENT
END:VCALENDAR